BEGIN:VCALENDAR
VERSION:2.0
PRODID:icalendar-ruby
CALSCALE:GREGORIAN
BEGIN:VEVENT
DTSTAMP:20260421T035019Z
UID:8f68d6e8-07c2-4b1e-8264-6afc5cb9f5e0
DTSTART;VALUE=DATE:20201125
DESCRIPTION:Property ID# 493538\, Time: 2:00PM
SUMMARY:Auction for 
END:VEVENT
END:VCALENDAR
