BEGIN:VCALENDAR
VERSION:2.0
PRODID:icalendar-ruby
CALSCALE:GREGORIAN
BEGIN:VEVENT
DTSTAMP:20260421T010316Z
UID:848e1965-c71b-4697-b58e-7e0b75d14192
DTSTART;VALUE=DATE:20201210
DESCRIPTION:Property ID# 495643\, Time: 10:00AM
SUMMARY:Auction for 
END:VEVENT
END:VCALENDAR
