BEGIN:VCALENDAR
VERSION:2.0
PRODID:icalendar-ruby
CALSCALE:GREGORIAN
BEGIN:VEVENT
DTSTAMP:20260420T090004Z
UID:d1050cad-04f9-45dc-836b-924bf8dcabf9
DTSTART;VALUE=DATE:20210714
DESCRIPTION:Property ID# 512448\, Locatoin: Tait Technology Centre\, 245 Wo
 oldridge Road\, Harewood\, Christchurch (Unless Sold Prior)\, Time: 12:00P
 M
SUMMARY:Auction for 
END:VEVENT
END:VCALENDAR
