BEGIN:VCALENDAR
VERSION:2.0
PRODID:icalendar-ruby
CALSCALE:GREGORIAN
BEGIN:VEVENT
DTSTAMP:20260421T050716Z
UID:4d8c515f-56a4-4d82-8437-4296b36c8ecb
DTSTART;VALUE=DATE:20220303
DESCRIPTION:Property ID# 527909\, Locatoin: 471 Papanui Road\, Unless Sold 
 Prior.\, Time: 10:00AM
SUMMARY:Auction for 
END:VEVENT
END:VCALENDAR
