BEGIN:VCALENDAR
VERSION:2.0
PRODID:icalendar-ruby
CALSCALE:GREGORIAN
BEGIN:VEVENT
DTSTAMP:20260421T051710Z
UID:d3231780-5345-40a8-935a-d0857479a9a6
DTSTART;VALUE=DATE:20220317
DESCRIPTION:Property ID# 529027\, Locatoin: 471 Papanui Road\, Unless Sold 
 Prior.\, Time: 10:00AM
SUMMARY:Auction for 
END:VEVENT
END:VCALENDAR
