BEGIN:VCALENDAR
VERSION:2.0
PRODID:icalendar-ruby
CALSCALE:GREGORIAN
BEGIN:VEVENT
DTSTAMP:20260421T045742Z
UID:4b0a2ed7-ad1e-42df-8be6-6029ebb0fcba
DTSTART;VALUE=DATE:20220407
DESCRIPTION:Property ID# 532051\, Locatoin: 471 Papanui Road\, Unless Sold 
 Prior.\, Time: 10:00AM
SUMMARY:Auction for 
END:VEVENT
END:VCALENDAR
