BEGIN:VCALENDAR
VERSION:2.0
PRODID:icalendar-ruby
CALSCALE:GREGORIAN
BEGIN:VEVENT
DTSTAMP:20260421T051424Z
UID:2a6085bc-a3cd-4f26-9ba8-239f8b8b034e
DTSTART;VALUE=DATE:20220414
DESCRIPTION:Property ID# 532055\, Locatoin: 471 Papanui Road\, Unless Sold 
 Prior.\, Time: 10:00AM
SUMMARY:Auction for 
END:VEVENT
END:VCALENDAR
