BEGIN:VCALENDAR
VERSION:2.0
PRODID:icalendar-ruby
CALSCALE:GREGORIAN
BEGIN:VEVENT
DTSTAMP:20260420T143648Z
UID:a2a41bd1-87ca-4dac-86b4-d3a3fd9f25c3
DTSTART;VALUE=DATE:20220601
DESCRIPTION:Property ID# 536114\, Time: 12:00PM
SUMMARY:Auction for 
END:VEVENT
END:VCALENDAR
