BEGIN:VCALENDAR
VERSION:2.0
PRODID:icalendar-ruby
CALSCALE:GREGORIAN
BEGIN:VEVENT
DTSTAMP:20260421T045926Z
UID:ce1b8b9f-70b4-4e1e-9c78-10d649559808
DTSTART;VALUE=DATE:20220617
DESCRIPTION:Property ID# 537314\, Time: 12:00PM
SUMMARY:Auction for 
END:VEVENT
END:VCALENDAR
