BEGIN:VCALENDAR
VERSION:2.0
PRODID:icalendar-ruby
CALSCALE:GREGORIAN
BEGIN:VEVENT
DTSTAMP:20260421T050558Z
UID:7820b256-aede-4c03-8336-76d317b0e217
DTSTART;VALUE=DATE:20220818
DESCRIPTION:Property ID# 540802\, Time: 10:00AM
SUMMARY:Auction for 
END:VEVENT
END:VCALENDAR
