BEGIN:VCALENDAR
VERSION:2.0
PRODID:icalendar-ruby
CALSCALE:GREGORIAN
BEGIN:VEVENT
DTSTAMP:20260422T085701Z
UID:579be06a-aa89-4ddc-9a7e-965f95fce6b8
DTSTART;VALUE=DATE:20220921
DESCRIPTION:Property ID# 542998\, Locatoin: Tait Technology Centre\, 245 Wo
 oldridge Road\, Harewood (unless sold prior)\, Time: 12:00PM
SUMMARY:Auction for 
END:VEVENT
END:VCALENDAR
