BEGIN:VCALENDAR
VERSION:2.0
PRODID:icalendar-ruby
CALSCALE:GREGORIAN
BEGIN:VEVENT
DTSTAMP:20260421T050506Z
UID:3e4f4f74-4b20-4c13-9629-7b33f0c8352d
DTSTART;VALUE=DATE:20221208
DESCRIPTION:Property ID# 547497\, Time: 10:00AM
SUMMARY:Auction for 
END:VEVENT
END:VCALENDAR
