BEGIN:VCALENDAR
VERSION:2.0
PRODID:icalendar-ruby
CALSCALE:GREGORIAN
BEGIN:VEVENT
DTSTAMP:20260421T050158Z
UID:68231cf8-c343-43e7-b6e8-3e179e010f0f
DTSTART;VALUE=DATE:20221220
DESCRIPTION:Property ID# 547524\, Time: 10:00AM
SUMMARY:Auction for 
END:VEVENT
END:VCALENDAR
