BEGIN:VCALENDAR
VERSION:2.0
PRODID:icalendar-ruby
CALSCALE:GREGORIAN
BEGIN:VEVENT
DTSTAMP:20260421T050009Z
UID:02a7df5c-a6d2-465a-86cc-5f6350e70a77
DTSTART;VALUE=DATE:20230223
DESCRIPTION:Property ID# 550588\, Time: 10:00AM
SUMMARY:Auction for 
END:VEVENT
END:VCALENDAR
