BEGIN:VCALENDAR
VERSION:2.0
PRODID:icalendar-ruby
CALSCALE:GREGORIAN
BEGIN:VEVENT
DTSTAMP:20260421T045926Z
UID:723c0e2e-f3a7-40e2-a1ab-7cee6a24beba
DTSTART;VALUE=DATE:20230309
DESCRIPTION:Property ID# 551696\, Time: 10:00AM
SUMMARY:Auction for 
END:VEVENT
END:VCALENDAR
