BEGIN:VCALENDAR
VERSION:2.0
PRODID:icalendar-ruby
CALSCALE:GREGORIAN
BEGIN:VEVENT
DTSTAMP:20260421T045604Z
UID:b4cd4520-cd9a-4991-b9ce-70504c94e8b1
DTSTART;VALUE=DATE:20230330
DESCRIPTION:Property ID# 553019\, Time: 10:00AM
SUMMARY:Auction for 
END:VEVENT
END:VCALENDAR
