BEGIN:VCALENDAR
VERSION:2.0
PRODID:icalendar-ruby
CALSCALE:GREGORIAN
BEGIN:VEVENT
DTSTAMP:20260421T050419Z
UID:e11aea57-51ef-4342-a2be-38d0a95e5744
DTSTART;VALUE=DATE:20230706
DESCRIPTION:Property ID# 558458\, Time: 10:00AM
SUMMARY:Auction for 
END:VEVENT
END:VCALENDAR
