BEGIN:VCALENDAR
VERSION:2.0
PRODID:icalendar-ruby
CALSCALE:GREGORIAN
BEGIN:VEVENT
DTSTAMP:20260420T105312Z
UID:80e847ee-9649-46c8-bfd0-5903438cc94b
DTSTART;VALUE=DATE:20240613
DESCRIPTION:Property ID# 576009\, Time: 11:00AM
SUMMARY:Auction for 
END:VEVENT
END:VCALENDAR
