BEGIN:VCALENDAR
VERSION:2.0
PRODID:icalendar-ruby
CALSCALE:GREGORIAN
BEGIN:VEVENT
DTSTAMP:20260424T082100Z
UID:8c7b9171-f452-4b23-9943-36eb8a514b74
DTSTART;VALUE=DATE:20240911
DESCRIPTION:Property ID# 579903\, Time: 12:00PM
SUMMARY:Auction for 
END:VEVENT
END:VCALENDAR
